BEGIN:VCALENDAR
PRODID:-//eluceo/ical//2.0/EN
VERSION:2.0
CALSCALE:GREGORIAN
BEGIN:VEVENT
UID:1cf8cbb45f3261b80dc22ec89af60bc5
DTSTAMP:20260420T154251Z
SUMMARY:Schwanensee
DESCRIPTION:Für Tschaikowskys Reminiszenz an das romantische Tanzmärchen\
 , in dem Liebe\, Tod\, Sehnsucht und Resignation\, Menschen- und Fabelwelt
  zu einem sinnlichen Ballettabend verschmelzen\, wurde der junge\, aus Alb
 anien stammende Choreograf Eno Peci\, gewonnen.
URL:https://www.meinplaner.com
DTSTART;TZID=Europe/Amsterdam:20260521T193000
DTEND;TZID=Europe/Amsterdam:20260521T213000
LOCATION:Theaterplatz  2\, 09111 Chemnitz
BEGIN:VALARM
ACTION:DISPLAY
DESCRIPTION:Erinnerung: Schwanensee beginnt in 1 Stunde
TRIGGER;RELATED=END:-PT1H
END:VALARM
END:VEVENT
END:VCALENDAR
