BEGIN:VCALENDAR
PRODID:-//eluceo/ical//2.0/EN
VERSION:2.0
CALSCALE:GREGORIAN
BEGIN:VEVENT
UID:1c6819287387f22362423c3e22369c31
DTSTAMP:20260423T140350Z
SUMMARY:Stollberger Wochenmarkt
DESCRIPTION:Mit einem reichhaltigen Angebot aus frischen Lebensmitteln\, Pf
 lanzen\, Gewürzen und Tees\, Honig\, Backwaren\, aber auch Textilien und 
 Haushaltswaren\, erfreut sich der Stollberger Wochenmarkt jeden Mittwoch g
 roßer Beliebtheit.
URL:https://www.meinplaner.com
DTSTART;TZID=Europe/Amsterdam:20260429T080000
DTEND;TZID=Europe/Amsterdam:20260429T140000
LOCATION:Hauptmarkt 10\, 09366 Stollberg/Erzgeb.
BEGIN:VALARM
ACTION:DISPLAY
DESCRIPTION:Erinnerung: Stollberger Wochenmarkt beginnt in 1 Stunde
TRIGGER;RELATED=END:-PT1H
END:VALARM
END:VEVENT
END:VCALENDAR
