BEGIN:VCALENDAR
PRODID:-//eluceo/ical//2.0/EN
VERSION:2.0
CALSCALE:GREGORIAN
BEGIN:VEVENT
UID:c341af60354452590ff5430750da5d86
DTSTAMP:20260420T153800Z
SUMMARY:28. Chemnitzer Schultheaterwoche: Romeo oder was? ... Eine Probe
DESCRIPTION:Die Theaterleiterin nimmt eine Auszeit und die Gruppe soll Rome
 o und Julia allein einstudieren. Keiner hat wirklich Ahnung: Dominik organ
 isiert\, Lotte kämpft\, Anna denkt ans Essen und Mona an den Balkon. Zum 
 Glück gibt es Schul-KI Franky\, der weiß (fast) alles
URL:https://www.meinplaner.com
DTSTART;TZID=Europe/Amsterdam:20260421T160000
DTEND;TZID=Europe/Amsterdam:20260421T180000
LOCATION:Altchemnitzer Str. 27\, 09120 Chemnitz
BEGIN:VALARM
ACTION:DISPLAY
DESCRIPTION:Erinnerung: 28. Chemnitzer Schultheaterwoche: Romeo oder was? .
 .. Eine Probe beginnt in 1 Stunde
TRIGGER;RELATED=END:-PT1H
END:VALARM
END:VEVENT
END:VCALENDAR
