BEGIN:VCALENDAR
PRODID:-//eluceo/ical//2.0/EN
VERSION:2.0
CALSCALE:GREGORIAN
BEGIN:VEVENT
UID:39eb8f92adbac6a9c062937de05d6e1f
DTSTAMP:20260422T093105Z
SUMMARY:Eröffnung: Abenteuerweg am Fichtelberg
DESCRIPTION:Ein spannender Tag für kleine und große Entdecker: Mit der Sc
 hwebebahn geht es hinauf zum Erlebnisweg mit Rätseln und Aufgaben. Zum Ab
 schluss warten Spiel\, Spaß\, Musik und Verpflegung.
URL:https://www.meinplaner.com
DTSTART;TZID=Europe/Amsterdam:20260509T100000
DTEND;TZID=Europe/Amsterdam:20260509T163000
LOCATION:Vierenstraße 3b\, 09484 Oberwiesenthal
BEGIN:VALARM
ACTION:DISPLAY
DESCRIPTION:Erinnerung: Eröffnung: Abenteuerweg am Fichtelberg beginnt in 
 1 Stunde
TRIGGER;RELATED=END:-PT1H
END:VALARM
END:VEVENT
END:VCALENDAR
