BEGIN:VCALENDAR
PRODID:-//eluceo/ical//2.0/EN
VERSION:2.0
CALSCALE:GREGORIAN
BEGIN:VEVENT
UID:227f79a42a00b11d7fa3f30e31260f81
DTSTAMP:20260420T044942Z
SUMMARY:Vortrag: Mit Hightech sanft unter den Pelz
DESCRIPTION:Der Vortrag „Mit Hightech sanft unter Pelz – minimalinvasiv
 e Chirurgie auch bei Zoo- und Wildtieren“ gibt spannende Einblicke in mo
 derne Operationsmethoden\, ihren Einsatz bei Tieren und die Möglichkeiten
  schonender Medizin in der Tierchirurgie.
URL:https://www.meinplaner.com
DTSTART;TZID=Europe/Amsterdam:20260617T190000
DTEND;TZID=Europe/Amsterdam:20260617T210000
LOCATION:Tierparkstr. 2\, 09212 Limbach-Oberfrohna
BEGIN:VALARM
ACTION:DISPLAY
DESCRIPTION:Erinnerung: Vortrag: Mit Hightech sanft unter den Pelz beginnt 
 in 1 Stunde
TRIGGER;RELATED=END:-PT1H
END:VALARM
END:VEVENT
END:VCALENDAR
