BEGIN:VCALENDAR
PRODID:-//eluceo/ical//2.0/EN
VERSION:2.0
CALSCALE:GREGORIAN
BEGIN:VEVENT
UID:52acf276bf9acf9ce38e88709d174fb9
DTSTAMP:20260422T025636Z
SUMMARY:Übernachten im Geburtsort von Karl May
DESCRIPTION:Übernachten wie bei Mutti zu Hause: Diese gemütlichen Zimmer 
 haben alles\, was Gäste brauchen: Dusche\, WC\, TV. Von hier aus kann man
  viele Ausflugsziele - bspw. das Karl-May-Museum -  gut erreichen. Gastlic
 hkeit wird seit 4 Generationen großgeschrieben.
URL:https://www.meinplaner.com
DTSTART;TZID=Europe/Amsterdam:20260422T170000
DTEND;TZID=Europe/Amsterdam:20260422T220000
LOCATION:Weinkellerstr. 38\, 09337 Hohenstein-Ernstthal
BEGIN:VALARM
ACTION:DISPLAY
DESCRIPTION:Erinnerung: Übernachten im Geburtsort von Karl May beginnt in 
 1 Stunde
TRIGGER;RELATED=END:-PT1H
END:VALARM
END:VEVENT
BEGIN:VEVENT
UID:81cf1aae32b2b3265bcc78e1e0ed334f
DTSTAMP:20260422T025636Z
SUMMARY:Übernachten im Geburtsort von Karl May
DESCRIPTION:Übernachten wie bei Mutti zu Hause: Diese gemütlichen Zimmer 
 haben alles\, was Gäste brauchen: Dusche\, WC\, TV. Von hier aus kann man
  viele Ausflugsziele - bspw. das Karl-May-Museum -  gut erreichen. Gastlic
 hkeit wird seit 4 Generationen großgeschrieben.
URL:https://www.meinplaner.com
DTSTART;TZID=Europe/Amsterdam:20260422T110000
DTEND;TZID=Europe/Amsterdam:20260422T140000
LOCATION:Weinkellerstr. 38\, 09337 Hohenstein-Ernstthal
BEGIN:VALARM
ACTION:DISPLAY
DESCRIPTION:Erinnerung: Übernachten im Geburtsort von Karl May beginnt in 
 1 Stunde
TRIGGER;RELATED=END:-PT1H
END:VALARM
END:VEVENT
END:VCALENDAR
