BEGIN:VCALENDAR
PRODID:-//eluceo/ical//2.0/EN
VERSION:2.0
CALSCALE:GREGORIAN
BEGIN:VEVENT
UID:1ecfd4eebd53e8848a8eec0d884d7fd4
DTSTAMP:20260421T235049Z
SUMMARY:Zhineng Qigong - Kraft und Ruhe aus Fernost
DESCRIPTION:Qigong ist eine fernöstliche Heilmethode mit sanften\, fließe
 nden Bewegungen zur Stärkung von Körper\, Geist und Seele. Auch für kra
 nke Menschen geeignet\, fördert sie Selbstheilung\, innere Balance\, Bewe
 glichkeit und das allgemeine Wohlbefinden.
URL:https://www.meinplaner.com
DTSTART;TZID=Europe/Amsterdam:20260428T191500
DTEND;TZID=Europe/Amsterdam:20260428T204500
LOCATION:Str. der deutschen Einheit 29\, 09217 Burgstädt
BEGIN:VALARM
ACTION:DISPLAY
DESCRIPTION:Erinnerung: Zhineng Qigong - Kraft und Ruhe aus Fernost beginnt
  in 1 Stunde
TRIGGER;RELATED=END:-PT1H
END:VALARM
END:VEVENT
END:VCALENDAR
