BEGIN:VCALENDAR
PRODID:-//eluceo/ical//2.0/EN
VERSION:2.0
CALSCALE:GREGORIAN
BEGIN:VEVENT
UID:931580e8a9339e3cdcf1f1dd35bb8a7d
DTSTAMP:20260425T013127Z
SUMMARY:Ausflug zum Hasenwald
DESCRIPTION:Entspannte Sonntage im Grünen: Hausgebackener Kuchen\, Gegrill
 tes sowie kalte und warme Getränke laden zum Verweilen ein. Eine gemütli
 che Auszeit mit Genuss und lockerer Atmosphäre im Hasenwald.
URL:https://www.meinplaner.com
DTSTART;TZID=Europe/Amsterdam:20260503T140000
DTEND;TZID=Europe/Amsterdam:20260503T190000
LOCATION:Lengenfelder Str. 53a\, 08115 Lichtentanne
BEGIN:VALARM
ACTION:DISPLAY
DESCRIPTION:Erinnerung: Ausflug zum Hasenwald beginnt in 1 Stunde
TRIGGER;RELATED=END:-PT1H
END:VALARM
END:VEVENT
END:VCALENDAR
