BEGIN:VCALENDAR
PRODID:-//eluceo/ical//2.0/EN
VERSION:2.0
CALSCALE:GREGORIAN
BEGIN:VEVENT
UID:daa9f005bf472084c37cb4172e98ea8c
DTSTAMP:20260420T062720Z
SUMMARY:Eröffnung der Klöppelschule
DESCRIPTION:Nach umfassender Umgestaltung öffnet die Klöppelschule in der
  Goldnen Sonne wieder und feiert ihre Wiedereröffnung. Neue Räume verbin
 den Tradition und Moderne\, bieten Kurse für alle und laden als Treffpunk
 t für Klöppelkunst ein.
URL:https://www.meinplaner.com
DTSTART;TZID=Europe/Amsterdam:20260422T113000
DTEND;TZID=Europe/Amsterdam:20260422T133000
LOCATION:Fürstenplatz 5\, 08289 Schneeberg
BEGIN:VALARM
ACTION:DISPLAY
DESCRIPTION:Erinnerung: Eröffnung der Klöppelschule beginnt in 1 Stunde
TRIGGER;RELATED=END:-PT1H
END:VALARM
END:VEVENT
END:VCALENDAR
