BEGIN:VCALENDAR
PRODID:-//eluceo/ical//2.0/EN
VERSION:2.0
CALSCALE:GREGORIAN
BEGIN:VEVENT
UID:453409ec9ae392bb7f159580d81691c5
DTSTAMP:20260420T143956Z
SUMMARY:Führung: Ein „Rosswerk“ als Bergbau-Schauanlage
DESCRIPTION:Neben der Vorführung der Göpelfunktion\, an den Wochenenden a
 uch mit Pferden\, gibt es eine historische Bergschmiede\, wo Spindelpresse
  und Schmiedefeuer mit Amboss präsentiert werden. Auch der Märchenberg d
 es Schnitzvereins ist zu bestaunen.
URL:https://www.meinplaner.com
DTSTART;TZID=Europe/Amsterdam:20260421T143000
DTEND;TZID=Europe/Amsterdam:20260421T163000
LOCATION:Lautaer Hauptstr. 12\, 09496 Marienberg
BEGIN:VALARM
ACTION:DISPLAY
DESCRIPTION:Erinnerung: Führung: Ein „Rosswerk“ als Bergbau-Schauanlag
 e beginnt in 1 Stunde
TRIGGER;RELATED=END:-PT1H
END:VALARM
END:VEVENT
BEGIN:VEVENT
UID:5b9cc283b5fff24499bd8d864185cc04
DTSTAMP:20260420T143956Z
SUMMARY:Führung: Ein „Rosswerk“ als Bergbau-Schauanlage
DESCRIPTION:Neben der Vorführung der Göpelfunktion\, an den Wochenenden a
 uch mit Pferden\, gibt es eine historische Bergschmiede\, wo Spindelpresse
  und Schmiedefeuer mit Amboss präsentiert werden. Auch der Märchenberg d
 es Schnitzvereins ist zu bestaunen.
URL:https://www.meinplaner.com
DTSTART;TZID=Europe/Amsterdam:20260421T130000
DTEND;TZID=Europe/Amsterdam:20260421T150000
LOCATION:Lautaer Hauptstr. 12\, 09496 Marienberg
BEGIN:VALARM
ACTION:DISPLAY
DESCRIPTION:Erinnerung: Führung: Ein „Rosswerk“ als Bergbau-Schauanlag
 e beginnt in 1 Stunde
TRIGGER;RELATED=END:-PT1H
END:VALARM
END:VEVENT
END:VCALENDAR
