BEGIN:VCALENDAR
PRODID:-//eluceo/ical//2.0/EN
VERSION:2.0
CALSCALE:GREGORIAN
BEGIN:VEVENT
UID:697cf01ac9690970127444ec3583ba0f
DTSTAMP:20260425T165424Z
SUMMARY:Double Feature: 40 Jahre Top Gun
DESCRIPTION:Das Double Feature „Top Gun“ und „Top Gun: Maverick“ en
 tführt in die Welt mutiger Kampfpiloten\, die sich sowohl in der Luft als
  auch am Boden Herausforderungen stellen müssen\, während sie sich mit R
 ivalitäten und persönlichen Konflikten auseinandersetzen. 
URL:https://www.meinplaner.com
DTSTART;TZID=Europe/Amsterdam:20260517T160000
DTEND;TZID=Europe/Amsterdam:20260517T180000
LOCATION:Jägerstr. 24\, 09212 Limbach-Oberfrohna
BEGIN:VALARM
ACTION:DISPLAY
DESCRIPTION:Erinnerung: Double Feature: 40 Jahre Top Gun beginnt in 1 Stund
 e
TRIGGER;RELATED=END:-PT1H
END:VALARM
END:VEVENT
END:VCALENDAR
