BEGIN:VCALENDAR
PRODID:-//eluceo/ical//2.0/EN
VERSION:2.0
CALSCALE:GREGORIAN
BEGIN:VEVENT
UID:282813b947c56d3c9138da4aa8ab32da
DTSTAMP:20260424T012909Z
SUMMARY:Von einem der auszog\, Sächsisch zu lernen
DESCRIPTION:Ist Sächsisch zum Fürchten? Absolut nicht! Schließlich muss 
 man nur die Wörter rauslaufen lassen. Ferdsch. Aber Martin Berke hat da s
 chon noch ein paar Fragen: Kann man das Sächsische einfach so benutzen? I
 st es ungefährlich? Und bleibt das jetzt so?
URL:https://www.meinplaner.com
DTSTART;TZID=Europe/Amsterdam:20260424T190000
DTEND;TZID=Europe/Amsterdam:20260424T210000
LOCATION:Eislebener Str. 8\, 09126 Chemnitz
BEGIN:VALARM
ACTION:DISPLAY
DESCRIPTION:Erinnerung: Von einem der auszog\, Sächsisch zu lernen beginnt
  in 1 Stunde
TRIGGER;RELATED=END:-PT1H
END:VALARM
END:VEVENT
END:VCALENDAR
