BEGIN:VCALENDAR
PRODID:-//eluceo/ical//2.0/EN
VERSION:2.0
CALSCALE:GREGORIAN
BEGIN:VEVENT
UID:7b7b402355a20cb357206c9bc95a2586
DTSTAMP:20260423T004431Z
SUMMARY:Ein Café zum Verlieben - Süßes und Kaltes drinnen und draußen
DESCRIPTION:So empfehlenswert: Ein kleines\, gemütlich eingerichtetes Caf
 é mit einer leckeren Auswahl an Kuchen\, Torten\, Eisbechern und lecker g
 efüllten Crêpes. An warmen\, trockenen Tagen lockt die herrliche Südter
 rasse mit ihrem üppig blühenden Pflanzenmeer hinaus.
URL:https://www.meinplaner.com
DTSTART;TZID=Europe/Amsterdam:20260423T140000
DTEND;TZID=Europe/Amsterdam:20260423T180000
LOCATION:Markt  3\, 09212 Limbach-Oberfrohna
BEGIN:VALARM
ACTION:DISPLAY
DESCRIPTION:Erinnerung: Ein Café zum Verlieben - Süßes und Kaltes drinne
 n und draußen beginnt in 1 Stunde
TRIGGER;RELATED=END:-PT1H
END:VALARM
END:VEVENT
END:VCALENDAR
