BEGIN:VCALENDAR
PRODID:-//eluceo/ical//2.0/EN
VERSION:2.0
CALSCALE:GREGORIAN
BEGIN:VEVENT
UID:da405c03940b1d32d4dd86bd71a248bc
DTSTAMP:20260421T142644Z
SUMMARY:Rathaus- und Turm-Tour
DESCRIPTION:1911 wurde das historische Alte Rathaus um einen neueren Teil e
 rgänzt. Die Kostbarkeiten im Doppelrathaus\, wie die Bilder von Max Kling
 er und Neo Rauch werden ebenso gezeigt\, wie der Hohe Turm\, der einen bes
 onderen Blick über die Stadt gewährt.
URL:https://www.meinplaner.com
DTSTART;TZID=Europe/Amsterdam:20260425T103000
DTEND;TZID=Europe/Amsterdam:20260425T123000
LOCATION:Markt 1\, 09111 Chemnitz
BEGIN:VALARM
ACTION:DISPLAY
DESCRIPTION:Erinnerung: Rathaus- und Turm-Tour beginnt in 1 Stunde
TRIGGER;RELATED=END:-PT1H
END:VALARM
END:VEVENT
END:VCALENDAR
