BEGIN:VCALENDAR
PRODID:-//eluceo/ical//2.0/EN
VERSION:2.0
CALSCALE:GREGORIAN
BEGIN:VEVENT
UID:04e18c1ab129be7f188cb80f630bf0c1
DTSTAMP:20260421T230124Z
SUMMARY:Muttertag
DESCRIPTION:Ein besonderer Tag\, um Danke zu sagen: für Fürsorge\, Stärk
 e und Liebe. Der Muttertag lädt dazu ein\, Wertschätzung zu zeigen\, gem
 einsame Zeit zu genießen und all jene zu feiern\, die mit Herz und Hingab
 e begleiten.
URL:https://www.meinplaner.com
DTSTART;TZID=Europe/Amsterdam:20260510T140000
DTEND;TZID=Europe/Amsterdam:20260510T160000
LOCATION:Schloss Wildeck 1\, 09405 Zschopau
BEGIN:VALARM
ACTION:DISPLAY
DESCRIPTION:Erinnerung: Muttertag beginnt in 1 Stunde
TRIGGER;RELATED=END:-PT1H
END:VALARM
END:VEVENT
END:VCALENDAR
