BEGIN:VCALENDAR
PRODID:-//eluceo/ical//2.0/EN
VERSION:2.0
CALSCALE:GREGORIAN
BEGIN:VEVENT
UID:7dc77ce26ad1b53afa40c090df8e9017
DTSTAMP:20260421T165802Z
SUMMARY:Webkunst erleben: Tradition trifft Kreativität
DESCRIPTION:Die Weberei Oederan zeigt lebendige Handwerksgeschichte. Histor
 ische Webstühle\, alte Techniken und Ausstellungen erzählen vom textilen
  Erbe der Region. Ein Ort zum Staunen\, Lernen und Eintauchen in die Kunst
  des Webens – traditionell und kreativ zugleich.
URL:https://www.meinplaner.com
DTSTART;TZID=Europe/Amsterdam:20260422T110000
DTEND;TZID=Europe/Amsterdam:20260422T170000
LOCATION:Markt 6\, 09569 Oederan
BEGIN:VALARM
ACTION:DISPLAY
DESCRIPTION:Erinnerung: Webkunst erleben: Tradition trifft Kreativität beg
 innt in 1 Stunde
TRIGGER;RELATED=END:-PT1H
END:VALARM
END:VEVENT
END:VCALENDAR
