BEGIN:VCALENDAR
PRODID:-//eluceo/ical//2.0/EN
VERSION:2.0
CALSCALE:GREGORIAN
BEGIN:VEVENT
UID:ce4bc42f067a9ec38778d2ada3d98046
DTSTAMP:20260419T204256Z
SUMMARY:Bergbaulehrpfad Silberstraße Ehrenfriedersdorf
DESCRIPTION:Der Pfad bietet mit 27 Stationen zahlreiche Möglichkeiten\, da
 s schöne „Greifensteingebiet“ auf 13\,7 km näher kennen zu lernen. D
 ieser Lehrpfad ist als Rundweg angelegt und beginnt beim Besucherbergwerk 
 „Zinngrube Ehrenfriedersdorf“ auf dem Sauberg.
URL:https://www.meinplaner.com
DTSTART;TZID=Europe/Amsterdam:20260420T080000
DTEND;TZID=Europe/Amsterdam:20260420T210000
LOCATION:Markt  1\, 09427 Ehrenfriedersdorf
BEGIN:VALARM
ACTION:DISPLAY
DESCRIPTION:Erinnerung: Bergbaulehrpfad Silberstraße Ehrenfriedersdorf beg
 innt in 1 Stunde
TRIGGER;RELATED=END:-PT1H
END:VALARM
END:VEVENT
END:VCALENDAR
