BEGIN:VCALENDAR
PRODID:-//eluceo/ical//2.0/EN
VERSION:2.0
CALSCALE:GREGORIAN
BEGIN:VEVENT
UID:8a95f4e30fdc467551fa69c08a3cba82
DTSTAMP:20260425T002618Z
SUMMARY:greenbeats - Die spektakulärste Drumshow Europas
DESCRIPTION:Mit mitreißenden Drum-Performances\, atemberaubenden Showeffek
 ten und einzigartigen Instrumenten verspricht die Tour von greenbeats 2026
  ein unvergessliches Erlebnis für die ganze Familie\, voller Überraschun
 gen und positiver Energie\, die das Publikum begeistert
URL:https://www.meinplaner.com
DTSTART;TZID=Europe/Amsterdam:20260430T200000
DTEND;TZID=Europe/Amsterdam:20260430T223000
LOCATION:Theaterstr. 3\, 09111 Chemnitz
BEGIN:VALARM
ACTION:DISPLAY
DESCRIPTION:Erinnerung: greenbeats - Die spektakulärste Drumshow Europas b
 eginnt in 1 Stunde
TRIGGER;RELATED=END:-PT1H
END:VALARM
END:VEVENT
END:VCALENDAR
