BEGIN:VCALENDAR
PRODID:-//eluceo/ical//2.0/EN
VERSION:2.0
CALSCALE:GREGORIAN
BEGIN:VEVENT
UID:985e0828fe3dd663cd71285c89608f6e
DTSTAMP:20260423T161102Z
SUMMARY:Urban Art Space: 3. BACK TO REALITY – von der Vision zum Plan
DESCRIPTION:Was von den Ideen lässt sich wirklich bauen? Gemeinsam machen 
 wir aus Utopien einen konkreten Plan für die Umsetzung vor Ort. Jetzt wir
 d’s real – und du entscheidest mit.
URL:https://www.meinplaner.com
DTSTART;TZID=Europe/Amsterdam:20260425T100000
DTEND;TZID=Europe/Amsterdam:20260425T170000
LOCATION:Bernsdorfer Str. 8\, 09126 Chemnitz
BEGIN:VALARM
ACTION:DISPLAY
DESCRIPTION:Erinnerung: Urban Art Space: 3. BACK TO REALITY – von der Vis
 ion zum Plan beginnt in 1 Stunde
TRIGGER;RELATED=END:-PT1H
END:VALARM
END:VEVENT
END:VCALENDAR
