BEGIN:VCALENDAR
PRODID:-//eluceo/ical//2.0/EN
VERSION:2.0
CALSCALE:GREGORIAN
BEGIN:VEVENT
UID:a4bc3e8a5a08a3f8f7b3f0e0f11ac245
DTSTAMP:20260420T153751Z
SUMMARY:Wir finden schon was!
DESCRIPTION:Wir suchen uns ja gern mal einen Wolf: die zweite Socke\, den S
 inn des Lebens oder eben einen Programmtitel. Auf der Suche nach dem perfe
 kten Titel ist manchmal der Weg das Zuviel. Wir finden schon was! Verwirrt
 ? Antworten gibt’s im Kabarett!
URL:https://www.meinplaner.com
DTSTART;TZID=Europe/Amsterdam:20260425T200000
DTEND;TZID=Europe/Amsterdam:20260425T220000
LOCATION:An der Markthalle 1 -3\, 09111 Chemnitz
BEGIN:VALARM
ACTION:DISPLAY
DESCRIPTION:Erinnerung: Wir finden schon was! beginnt in 1 Stunde
TRIGGER;RELATED=END:-PT1H
END:VALARM
END:VEVENT
END:VCALENDAR
