BEGIN:VCALENDAR
PRODID:-//eluceo/ical//2.0/EN
VERSION:2.0
CALSCALE:GREGORIAN
BEGIN:VEVENT
UID:724072d3604e7202eecac430be712af9
DTSTAMP:20260422T223648Z
SUMMARY:So gut schmecken Gerichte auf pflanzlicher Basis
DESCRIPTION:Die Betreiber bieten ausschließlich Gerichte auf pflanzlicher 
 Basis. Couscous-Salat mit gerösteten Kichererbsen\, Maultaschen gefüllt 
 mit Spinat\, Erbsen & Kartoffeln oder Knoblauchsuppe – klingt verlockend
  & gesund. Salat kommt frisch vom Feld in der Region. 
URL:https://www.meinplaner.com
DTSTART;TZID=Europe/Amsterdam:20260423T170000
DTEND;TZID=Europe/Amsterdam:20260423T220000
LOCATION:Herrenstr. 25\, 09366 Stollberg/Erzgeb.
BEGIN:VALARM
ACTION:DISPLAY
DESCRIPTION:Erinnerung: So gut schmecken Gerichte auf pflanzlicher Basis be
 ginnt in 1 Stunde
TRIGGER;RELATED=END:-PT1H
END:VALARM
END:VEVENT
BEGIN:VEVENT
UID:4101a1afec6ee95dabe69d90611492f7
DTSTAMP:20260422T223648Z
SUMMARY:So gut schmecken Gerichte auf pflanzlicher Basis
DESCRIPTION:Die Betreiber bieten ausschließlich Gerichte auf pflanzlicher 
 Basis. Couscous-Salat mit gerösteten Kichererbsen\, Maultaschen gefüllt 
 mit Spinat\, Erbsen & Kartoffeln oder Knoblauchsuppe – klingt verlockend
  & gesund. Salat kommt frisch vom Feld in der Region. 
URL:https://www.meinplaner.com
DTSTART;TZID=Europe/Amsterdam:20260423T113000
DTEND;TZID=Europe/Amsterdam:20260423T140000
LOCATION:Herrenstr. 25\, 09366 Stollberg/Erzgeb.
BEGIN:VALARM
ACTION:DISPLAY
DESCRIPTION:Erinnerung: So gut schmecken Gerichte auf pflanzlicher Basis be
 ginnt in 1 Stunde
TRIGGER;RELATED=END:-PT1H
END:VALARM
END:VEVENT
END:VCALENDAR
