BEGIN:VCALENDAR
PRODID:-//eluceo/ical//2.0/EN
VERSION:2.0
CALSCALE:GREGORIAN
BEGIN:VEVENT
UID:fb152ce386db7acb8a4ac907f221658c
DTSTAMP:20260420T153800Z
SUMMARY:Einfach mal Heizung an
DESCRIPTION:Klimakrise\, Krieg und explodierende Preise? Egal. Ellen Schall
 er & Torsten Pahl lassen es noch einmal krachen und drehen die Heizung nic
 ht ab\, sondern auf. Rein in den Flieger\, rauf aufs Kreuzfahrtschiff. Wir
  wollen Spaß\, und wenn es der letzte ist.
URL:https://www.meinplaner.com
DTSTART;TZID=Europe/Amsterdam:20260429T200000
DTEND;TZID=Europe/Amsterdam:20260429T220000
LOCATION:An der Markthalle 1 -3\, 09111 Chemnitz
BEGIN:VALARM
ACTION:DISPLAY
DESCRIPTION:Erinnerung: Einfach mal Heizung an beginnt in 1 Stunde
TRIGGER;RELATED=END:-PT1H
END:VALARM
END:VEVENT
END:VCALENDAR
