BEGIN:VCALENDAR
PRODID:-//eluceo/ical//2.0/EN
VERSION:2.0
CALSCALE:GREGORIAN
BEGIN:VEVENT
UID:ab7603e8f1a3d85137ff72ccee4eccfe
DTSTAMP:20260423T075414Z
SUMMARY:Stadtführungen in Oederan
DESCRIPTION:Stadtführungen laden dazu ein\, Oederan neu zu entdecken. Gesc
 hichte\, Geschichten und besondere Details werden auf abwechslungsreichen 
 Rundgängen lebendig erzählt – für Erwachsene\, Familien und Kinder.
URL:https://www.meinplaner.com
DTSTART;TZID=Europe/Amsterdam:20260423T100000
DTEND;TZID=Europe/Amsterdam:20260423T170000
LOCATION:Markt 6\, 09569 Oederan
BEGIN:VALARM
ACTION:DISPLAY
DESCRIPTION:Erinnerung: Stadtführungen in Oederan beginnt in 1 Stunde
TRIGGER;RELATED=END:-PT1H
END:VALARM
END:VEVENT
END:VCALENDAR
