BEGIN:VCALENDAR
PRODID:-//eluceo/ical//2.0/EN
VERSION:2.0
CALSCALE:GREGORIAN
BEGIN:VEVENT
UID:f28869dddb91fc3b28b14b3f41e87d9b
DTSTAMP:20260423T183552Z
SUMMARY:Ein Sternbild für Flappi
DESCRIPTION:Die wissbegierige\, kleine Fledermaus Flappi belauscht in einer
  Sternwarte eine Führung und erfährt von Sternen\, Sternbildern und Mond
 . Um mehr zu erfahren\, fliegt sie in die Nacht\, dem größten Abenteuer 
 ihres Lebens entgegen.
URL:https://www.meinplaner.com
DTSTART;TZID=Europe/Amsterdam:20260521T153000
DTEND;TZID=Europe/Amsterdam:20260521T173000
LOCATION:Milchstr. 1\, 09430 Drebach
BEGIN:VALARM
ACTION:DISPLAY
DESCRIPTION:Erinnerung: Ein Sternbild für Flappi beginnt in 1 Stunde
TRIGGER;RELATED=END:-PT1H
END:VALARM
END:VEVENT
END:VCALENDAR
