BEGIN:VCALENDAR
PRODID:-//eluceo/ical//2.0/EN
VERSION:2.0
CALSCALE:GREGORIAN
BEGIN:VEVENT
UID:c3a38f9e9fd894a15bd87a4ba68eeea1
DTSTAMP:20260419T184235Z
SUMMARY:Burgerkultur für alle im Herzen der City
DESCRIPTION:Auf der "Kneipenmeile" der Chemnitzer City hat sich "Hans im Gl
 ück" niedergelassen. Taucht ein in die Welt der Burger auf hohem kulinari
 schen Niveau. Ob Veganer\, Vegetarier oder Allesgenießer zwischen Birkens
 tämmen ist nicht nur der Hans im Glück .
URL:https://www.meinplaner.com
DTSTART;TZID=Europe/Amsterdam:20260419T110000
DTEND;TZID=Europe/Amsterdam:20260419T230000
LOCATION:Innere Klosterstr.  6\, 09111 Chemnitz
BEGIN:VALARM
ACTION:DISPLAY
DESCRIPTION:Erinnerung: Burgerkultur für alle im Herzen der City beginnt i
 n 1 Stunde
TRIGGER;RELATED=END:-PT1H
END:VALARM
END:VEVENT
END:VCALENDAR
