BEGIN:VCALENDAR
PRODID:-//eluceo/ical//2.0/EN
VERSION:2.0
CALSCALE:GREGORIAN
BEGIN:VEVENT
UID:5d16ef36363fffb25b9875fd884e3632
DTSTAMP:20260424T021502Z
SUMMARY:Tanz in den Sommer
DESCRIPTION:Tanz in den Sommer im idyllischen Schlosspark Lichtenwalde! Ein
  Abend voller Musik\, Spaß und guter Laune. Bei Regen wird die Feier ins 
 Schlossgasthaus verlegt\, damit die Stimmung ungetrübt bleibt.
URL:https://www.meinplaner.com
DTSTART;TZID=Europe/Amsterdam:20260704T193000
DTEND;TZID=Europe/Amsterdam:20260704T213000
LOCATION:Schlossallee 1\, 09577 Niederwiesa
BEGIN:VALARM
ACTION:DISPLAY
DESCRIPTION:Erinnerung: Tanz in den Sommer beginnt in 1 Stunde
TRIGGER;RELATED=END:-PT1H
END:VALARM
END:VEVENT
END:VCALENDAR
