BEGIN:VCALENDAR
PRODID:-//eluceo/ical//2.0/EN
VERSION:2.0
CALSCALE:GREGORIAN
BEGIN:VEVENT
UID:3ca14a41b63b219f61920c718e04fec2
DTSTAMP:20260426T011311Z
SUMMARY:Tag der Arbeit auf der Alm
DESCRIPTION:Feiertag im Grünen: Fruchtige Maibowle\, festlicher Birkenschm
 uck und entspannte Atmosphäre sorgen für echtes Frühlingsgefühl. Ein s
 timmungsvoller Ort\, um den Mai zwischen Natur\, Genuss und guter Laune wi
 llkommen zu heißen.
URL:https://www.meinplaner.com
DTSTART;TZID=Europe/Amsterdam:20260501T110000
DTEND;TZID=Europe/Amsterdam:20260501T170000
LOCATION:Totensteinstr. \, 09224 Chemnitz
BEGIN:VALARM
ACTION:DISPLAY
DESCRIPTION:Erinnerung: Tag der Arbeit auf der Alm beginnt in 1 Stunde
TRIGGER;RELATED=END:-PT1H
END:VALARM
END:VEVENT
END:VCALENDAR
