BEGIN:VCALENDAR
PRODID:-//eluceo/ical//2.0/EN
VERSION:2.0
CALSCALE:GREGORIAN
BEGIN:VEVENT
UID:faf2674ad57063c3e29f4c9528663d02
DTSTAMP:20260422T072846Z
SUMMARY:Führung bei der ligenium GmbH Chemnitz
DESCRIPTION:Bei ligenium wird sichtbar\, wie aus dem Werkstoff Holz moderne
  Hightech-Lösungen für Industrie und Logistik entstehen. Werkstouren zei
 gen leichte\, modulare Systeme für Produktion und Transport – nachhalti
 g\, effizient und überraschend innovativ.
URL:https://www.meinplaner.com
DTSTART;TZID=Europe/Amsterdam:20260506T160000
DTEND;TZID=Europe/Amsterdam:20260506T170000
LOCATION:Annaberger Str. 240\, 09125 Chemnitz
BEGIN:VALARM
ACTION:DISPLAY
DESCRIPTION:Erinnerung: Führung bei der ligenium GmbH Chemnitz beginnt in 
 1 Stunde
TRIGGER;RELATED=END:-PT1H
END:VALARM
END:VEVENT
END:VCALENDAR
