BEGIN:VCALENDAR
PRODID:-//eluceo/ical//2.0/EN
VERSION:2.0
CALSCALE:GREGORIAN
BEGIN:VEVENT
UID:53fefb3367ec537cad95a5d19e8dc47a
DTSTAMP:20260423T211851Z
SUMMARY:Tierisch abgefahren - Rettet die Pets!
DESCRIPTION:In einem rasenden Zug voller putziger Haustiere muss Waschbär 
 Falcon\, der einen Job angenommen hat\, um seinen Freunden zu helfen\, das
  Chaos stoppen und die Passagiere vereinen\, während ein rachsüchtiger D
 achs mit einem verrückten Plan alles bedroht.
URL:https://www.meinplaner.com
DTSTART;TZID=Europe/Amsterdam:20260425T130000
DTEND;TZID=Europe/Amsterdam:20260425T150000
LOCATION:Neustädter Ring  2\, 08340 Schwarzenberg/Erzgeb.
BEGIN:VALARM
ACTION:DISPLAY
DESCRIPTION:Erinnerung: Tierisch abgefahren - Rettet die Pets! beginnt in 1
  Stunde
TRIGGER;RELATED=END:-PT1H
END:VALARM
END:VEVENT
END:VCALENDAR
