BEGIN:VCALENDAR
PRODID:-//eluceo/ical//2.0/EN
VERSION:2.0
CALSCALE:GREGORIAN
BEGIN:VEVENT
UID:830a1e6336409a34137eb192c794424c
DTSTAMP:20260421T190837Z
SUMMARY:„Tacheles!“ – Chemnitzer Museumsnacht 
DESCRIPTION:Auf dem Sonnenberg wird die Ausgrabung eines 291 Millionen Jahr
 e alten Ökosystems erlebbar. Einblicke in aktuelle Funde\, eigene Fossili
 ensuche und eine Grabungsrallye machen Wissenschaft hautnah zugänglich.
URL:https://www.meinplaner.com
DTSTART;TZID=Europe/Amsterdam:20260509T180000
DTEND;TZID=Europe/Amsterdam:20260509T220000
LOCATION:Glockenstr. 16\, 09130 Chemnitz
BEGIN:VALARM
ACTION:DISPLAY
DESCRIPTION:Erinnerung: „Tacheles!“ – Chemnitzer Museumsnacht  beginn
 t in 1 Stunde
TRIGGER;RELATED=END:-PT1H
END:VALARM
END:VEVENT
END:VCALENDAR
