BEGIN:VCALENDAR
PRODID:-//eluceo/ical//2.0/EN
VERSION:2.0
CALSCALE:GREGORIAN
BEGIN:VEVENT
UID:12685488f8015a0acb57bf76788019a7
DTSTAMP:20260419T202249Z
SUMMARY:Sammelsurium - vom Nappl bis zu Swarowski-Steine 
DESCRIPTION:Sammelsurium vom Nappl bis zu Swarovski-Steinen: Anlässlich 10
  Jahre Depot Bahnhof N°4 präsentiert das Museum seine Sammlung und zeigt
  erstmals zahlreiche Objekte\, die bisher noch nie öffentlich ausgestellt
  wurden.
URL:https://www.meinplaner.com
DTSTART;TZID=Europe/Amsterdam:20260420T100000
DTEND;TZID=Europe/Amsterdam:20260420T170000
LOCATION:Obere Schlossstr.  36\, 08340 Schwarzenberg/Erzgeb.
BEGIN:VALARM
ACTION:DISPLAY
DESCRIPTION:Erinnerung: Sammelsurium - vom Nappl bis zu Swarowski-Steine  b
 eginnt in 1 Stunde
TRIGGER;RELATED=END:-PT1H
END:VALARM
END:VEVENT
END:VCALENDAR
