BEGIN:VCALENDAR
PRODID:-//eluceo/ical//2.0/EN
VERSION:2.0
CALSCALE:GREGORIAN
BEGIN:VEVENT
UID:639e432d36a61cc33e45089838df9d8d
DTSTAMP:20260421T011024Z
SUMMARY:Die Überlebensgrundlage
DESCRIPTION:„Die Überlebensgrundlage…“ – die Ausstellung zeigt\, w
 ie Bauern früher ihre Felder bewirtschafteten und den Boden verbesserten.
  Sie vermittelt anschaulich\, mit welchen Techniken und Kenntnissen die Gr
 undlage für Ernährung und Leben geschaffen wurde.
URL:https://www.meinplaner.com
DTSTART;TZID=Europe/Amsterdam:20260421T100000
DTEND;TZID=Europe/Amsterdam:20260421T170000
LOCATION:Gahlenzer Str. 105\, 09569 Oederan
BEGIN:VALARM
ACTION:DISPLAY
DESCRIPTION:Erinnerung: Die Überlebensgrundlage beginnt in 1 Stunde
TRIGGER;RELATED=END:-PT1H
END:VALARM
END:VEVENT
END:VCALENDAR
