BEGIN:VCALENDAR
PRODID:-//eluceo/ical//2.0/EN
VERSION:2.0
CALSCALE:GREGORIAN
BEGIN:VEVENT
UID:d706645635300b9874ac6d7d9ac7daab
DTSTAMP:20260423T003056Z
SUMMARY:Medical Wellness in seiner vollendetsten Form
DESCRIPTION:Eine Oase der Ruhe\, in der Körper und Seele neue Kraft schöp
 fen – authentisches Ayurveda\, tief verwurzelt in jahrhundertealter Heil
 kunst\, entfaltet seine harmonisierende Wirkung und schenkt ganzheitliches
  Wohlbefinden.
URL:https://www.meinplaner.com
DTSTART;TZID=Europe/Amsterdam:20260423T070000
DTEND;TZID=Europe/Amsterdam:20260423T220000
LOCATION:Richard-Friedrich-Boulevard  16\, 08280 Aue-Bad Schlema
BEGIN:VALARM
ACTION:DISPLAY
DESCRIPTION:Erinnerung: Medical Wellness in seiner vollendetsten Form begin
 nt in 1 Stunde
TRIGGER;RELATED=END:-PT1H
END:VALARM
END:VEVENT
END:VCALENDAR
