BEGIN:VCALENDAR
PRODID:-//eluceo/ical//2.0/EN
VERSION:2.0
CALSCALE:GREGORIAN
BEGIN:VEVENT
UID:dfab0679b2baa170c4b478d4d508fdeb
DTSTAMP:20260419T155105Z
SUMMARY:Frühschoppen anlässlich des Tages des deutschen Bieres
DESCRIPTION:Am Tag des Deutschen Bieres lädt die Glückauf-Brauerei zu ein
 em besonderen Fest auf ihr Gelände ein. Mit den Oelsnitzer Blasmusikanten
 \, Speisen und Getränken\, Betriebsverkauf und spannenden Führungen erwa
 rtet die Gäste ein geselliger Tag voller Genuss.
URL:https://www.meinplaner.com
DTSTART;TZID=Europe/Amsterdam:20260426T100000
DTEND;TZID=Europe/Amsterdam:20260426T140000
LOCATION:Hauptstr. 176\, 09355 Gersdorf
BEGIN:VALARM
ACTION:DISPLAY
DESCRIPTION:Erinnerung: Frühschoppen anlässlich des Tages des deutschen B
 ieres beginnt in 1 Stunde
TRIGGER;RELATED=END:-PT1H
END:VALARM
END:VEVENT
END:VCALENDAR
