BEGIN:VCALENDAR
PRODID:-//eluceo/ical//2.0/EN
VERSION:2.0
CALSCALE:GREGORIAN
BEGIN:VEVENT
UID:d62ceeda726072e9f531a68df0610c66
DTSTAMP:20260420T223246Z
SUMMARY:Themennähkurs - Rock nähen
DESCRIPTION:Im Themennähkurs steht das Nähen eines Rocks in gerader Schni
 ttführung im Mittelpunkt. Saubere Nähte\, passgenaue Schnitte und der si
 chere Umgang mit der Maschine werden praxisnah und verständlich vermittel
 t.
URL:https://www.meinplaner.com
DTSTART;TZID=Europe/Amsterdam:20260423T183000
DTEND;TZID=Europe/Amsterdam:20260423T200000
LOCATION:Erlaer Str.  1\, 08340 Schwarzenberg/Erzgeb.
BEGIN:VALARM
ACTION:DISPLAY
DESCRIPTION:Erinnerung: Themennähkurs - Rock nähen beginnt in 1 Stunde
TRIGGER;RELATED=END:-PT1H
END:VALARM
END:VEVENT
END:VCALENDAR
