BEGIN:VCALENDAR
PRODID:-//eluceo/ical//2.0/EN
VERSION:2.0
CALSCALE:GREGORIAN
BEGIN:VEVENT
UID:2571ca0e390fd412e090e33cdf85cf6d
DTSTAMP:20260425T230359Z
SUMMARY:Ruhe\, Geborgenheit\, Erholung
DESCRIPTION:Das Forsthaus Grüna\, malerisch am Rabensteiner Wald gelegen\,
  verbindet modernes Ambiente mit herzlicher Gastlichkeit. Hier finden Erho
 lungssuchende in komfortablen Zimmern eine ruhige Wohlfühlatmosphäre abs
 eits der Großstadt\, ideal für Entspannung und Auszeit.
URL:https://www.meinplaner.com
DTSTART;TZID=Europe/Amsterdam:20260426T140000
DTEND;TZID=Europe/Amsterdam:20260426T210000
LOCATION:Rabensteiner Str. 17\, 09224 Chemnitz
BEGIN:VALARM
ACTION:DISPLAY
DESCRIPTION:Erinnerung: Ruhe\, Geborgenheit\, Erholung beginnt in 1 Stunde
TRIGGER;RELATED=END:-PT1H
END:VALARM
END:VEVENT
END:VCALENDAR
