BEGIN:VCALENDAR
PRODID:-//eluceo/ical//2.0/EN
VERSION:2.0
CALSCALE:GREGORIAN
BEGIN:VEVENT
UID:1d612adc41830320c97429968e8901a6
DTSTAMP:20260421T233100Z
SUMMARY:Sinneswelten - Hamam & Spa
DESCRIPTION:Ein Spaziergang durch die Welt: Exotische Düfte\, ferne Kläng
 e und stimmungsvolles Ambiente laden zum Entspannen ein. Ob Hamam wie in 
 „1001 Nacht“\, Savannen-Sauna\, landestypische Massagen oder Drinks in
  der Orient Lounge – pure Erholung für alle Sinne.
URL:https://www.meinplaner.com
DTSTART;TZID=Europe/Amsterdam:20260422T120000
DTEND;TZID=Europe/Amsterdam:20260422T170000
LOCATION:Schönherrstr. 8\, 09113 Chemnitz
BEGIN:VALARM
ACTION:DISPLAY
DESCRIPTION:Erinnerung: Sinneswelten - Hamam & Spa beginnt in 1 Stunde
TRIGGER;RELATED=END:-PT1H
END:VALARM
END:VEVENT
END:VCALENDAR
