BEGIN:VCALENDAR
PRODID:-//eluceo/ical//2.0/EN
VERSION:2.0
CALSCALE:GREGORIAN
BEGIN:VEVENT
UID:920e1e6952f7de9a90a859b5bafd63b6
DTSTAMP:20260420T104639Z
SUMMARY:Baden\, Entspannen\, Genießen
DESCRIPTION:Das WEBALU Hallen- und Freibad bietet Abenteuer\, Sport\, Entsp
 annung\, Spaß und kulinarische Genüsse für die ganze Familie und lädt 
 in freundlicher\, gemütlicher Atmosphäre dazu ein\, die ganze Welt des B
 ade- und Saunaerlebens zu entdecken.
URL:https://www.meinplaner.com
DTSTART;TZID=Europe/Amsterdam:20260420T100000
DTEND;TZID=Europe/Amsterdam:20260420T190000
LOCATION:Ziegelstr. 79\, 08412 Werdau
BEGIN:VALARM
ACTION:DISPLAY
DESCRIPTION:Erinnerung: Baden\, Entspannen\, Genießen beginnt in 1 Stunde
TRIGGER;RELATED=END:-PT1H
END:VALARM
END:VEVENT
END:VCALENDAR
