BEGIN:VCALENDAR
PRODID:-//eluceo/ical//2.0/EN
VERSION:2.0
CALSCALE:GREGORIAN
BEGIN:VEVENT
UID:de4913d66fa22a0f8ffaac8506996e9f
DTSTAMP:20260423T010304Z
SUMMARY:Charmant\, mediterran\, familiär
DESCRIPTION:Die charmante Pizzeria Adria in Chemnitz begeistert mit herzlic
 her Gastfreundschaft\, authentischer italienischer Küche und mediterranem
  Flair\, das mit traditionellen Rezepten und gemütlichem Ambiente für ei
 n Stück Italien in Chemnitz sorgt.
URL:https://www.meinplaner.com
DTSTART;TZID=Europe/Amsterdam:20260423T173000
DTEND;TZID=Europe/Amsterdam:20260423T220000
LOCATION:Schiersandstr. 32\, 09116 Chemnitz
BEGIN:VALARM
ACTION:DISPLAY
DESCRIPTION:Erinnerung: Charmant\, mediterran\, familiär beginnt in 1 Stun
 de
TRIGGER;RELATED=END:-PT1H
END:VALARM
END:VEVENT
BEGIN:VEVENT
UID:c6d21d482463493aa9bbd4699f4aa843
DTSTAMP:20260423T010304Z
SUMMARY:Charmant\, mediterran\, familiär
DESCRIPTION:Die charmante Pizzeria Adria in Chemnitz begeistert mit herzlic
 her Gastfreundschaft\, authentischer italienischer Küche und mediterranem
  Flair\, das mit traditionellen Rezepten und gemütlichem Ambiente für ei
 n Stück Italien in Chemnitz sorgt.
URL:https://www.meinplaner.com
DTSTART;TZID=Europe/Amsterdam:20260423T113000
DTEND;TZID=Europe/Amsterdam:20260423T140000
LOCATION:Schiersandstr. 32\, 09116 Chemnitz
BEGIN:VALARM
ACTION:DISPLAY
DESCRIPTION:Erinnerung: Charmant\, mediterran\, familiär beginnt in 1 Stun
 de
TRIGGER;RELATED=END:-PT1H
END:VALARM
END:VEVENT
END:VCALENDAR
