BEGIN:VCALENDAR
PRODID:-//eluceo/ical//2.0/EN
VERSION:2.0
CALSCALE:GREGORIAN
BEGIN:VEVENT
UID:796adfe2b8fe8a90fea007a533f6acbc
DTSTAMP:20260420T172322Z
SUMMARY:Übernachten im Geburtsort von Karl May
DESCRIPTION:Übernachten wie bei Mutti zu Hause: Diese gemütlichen Zimmer 
 haben alles\, was Gäste brauchen: Dusche\, WC\, TV. Von hier aus kann man
  viele Ausflugsziele - bspw. das Karl-May-Museum -  gut erreichen. Gastlic
 hkeit wird seit 4 Generationen großgeschrieben.
URL:https://www.meinplaner.com
DTSTART;TZID=Europe/Amsterdam:20260421T110000
DTEND;TZID=Europe/Amsterdam:20260421T140000
LOCATION:Weinkellerstr. 38\, 09337 Hohenstein-Ernstthal
BEGIN:VALARM
ACTION:DISPLAY
DESCRIPTION:Erinnerung: Übernachten im Geburtsort von Karl May beginnt in 
 1 Stunde
TRIGGER;RELATED=END:-PT1H
END:VALARM
END:VEVENT
BEGIN:VEVENT
UID:48767aa0a6d775abf623d008b9230ae1
DTSTAMP:20260420T172322Z
SUMMARY:Übernachten im Geburtsort von Karl May
DESCRIPTION:Übernachten wie bei Mutti zu Hause: Diese gemütlichen Zimmer 
 haben alles\, was Gäste brauchen: Dusche\, WC\, TV. Von hier aus kann man
  viele Ausflugsziele - bspw. das Karl-May-Museum -  gut erreichen. Gastlic
 hkeit wird seit 4 Generationen großgeschrieben.
URL:https://www.meinplaner.com
DTSTART;TZID=Europe/Amsterdam:20260421T170000
DTEND;TZID=Europe/Amsterdam:20260421T220000
LOCATION:Weinkellerstr. 38\, 09337 Hohenstein-Ernstthal
BEGIN:VALARM
ACTION:DISPLAY
DESCRIPTION:Erinnerung: Übernachten im Geburtsort von Karl May beginnt in 
 1 Stunde
TRIGGER;RELATED=END:-PT1H
END:VALARM
END:VEVENT
END:VCALENDAR
