BEGIN:VCALENDAR
PRODID:-//eluceo/ical//2.0/EN
VERSION:2.0
CALSCALE:GREGORIAN
BEGIN:VEVENT
UID:0606739512afa769d71b368c345ce694
DTSTAMP:20260419T163949Z
SUMMARY:Krimi total Dinner: Sekt mit Schuss Brunch
DESCRIPTION:Ein Mordfall\, jede Menge Spaß\, prickelnde Ermittlungen und G
 eständnisse deluxe – bei diesem leckeren und spannenden Dinner sitzt ma
 n mittendrin und darf den Fall mit lösen und herausfinden\, welches Gest
 ändnis das Richtige ist! Dann knallen die Sektkorken!
URL:https://www.meinplaner.com
DTSTART;TZID=Europe/Amsterdam:20260524T110000
DTEND;TZID=Europe/Amsterdam:20260524T130000
LOCATION:Brückenstr. 17\, 09111 Chemnitz
BEGIN:VALARM
ACTION:DISPLAY
DESCRIPTION:Erinnerung: Krimi total Dinner: Sekt mit Schuss Brunch beginnt 
 in 1 Stunde
TRIGGER;RELATED=END:-PT1H
END:VALARM
END:VEVENT
END:VCALENDAR
