BEGIN:VCALENDAR
PRODID:-//eluceo/ical//2.0/EN
VERSION:2.0
CALSCALE:GREGORIAN
BEGIN:VEVENT
UID:7a9465f09bdb725c1fd6a63664e3ab4d
DTSTAMP:20260419T163250Z
SUMMARY:Zeitreise – vom Urknall zum Menschen
DESCRIPTION:Wie ist das Weltall entstanden? Woher kommen die Sterne und Pla
 neten? Was hat sich auf der Erde abgespielt? Das und viel mehr erfahren G
 äste bei einer Zeitreise vom Beginn des Universums bis heute.  Das sind 1
 4 Milliarden Jahre Weltgeschichte!
URL:https://www.meinplaner.com
DTSTART;TZID=Europe/Amsterdam:20260515T193000
DTEND;TZID=Europe/Amsterdam:20260515T213000
LOCATION:Heinrich-Heine-Str. 13 a \, 08289 Schneeberg
BEGIN:VALARM
ACTION:DISPLAY
DESCRIPTION:Erinnerung: Zeitreise – vom Urknall zum Menschen beginnt in 1
  Stunde
TRIGGER;RELATED=END:-PT1H
END:VALARM
END:VEVENT
END:VCALENDAR
