BEGIN:VCALENDAR
PRODID:-//eluceo/ical//2.0/EN
VERSION:2.0
CALSCALE:GREGORIAN
BEGIN:VEVENT
UID:e06a1c90df0bc03a347144c1feb3ed37
DTSTAMP:20260420T154450Z
SUMMARY:Massachusetts - Bee Gees Musical
DESCRIPTION:Spielszenen führen durch die Karriere der Gibb-Brüder\, Tänz
 er machen die Disco-Ära zu einem optischen Erlebnis. Den musikalischen Pa
 rt übernehmen die Egiziano-Brüder\, die seit Jahren erfolgreich auf den 
 Spuren ihrer großen Vorbilder unterwegs sind.
URL:https://www.meinplaner.com
DTSTART;TZID=Europe/Amsterdam:20260428T200000
DTEND;TZID=Europe/Amsterdam:20260428T223000
LOCATION:Theaterstr. 3\, 09111 Chemnitz
BEGIN:VALARM
ACTION:DISPLAY
DESCRIPTION:Erinnerung: Massachusetts - Bee Gees Musical beginnt in 1 Stund
 e
TRIGGER;RELATED=END:-PT1H
END:VALARM
END:VEVENT
END:VCALENDAR
