BEGIN:VCALENDAR
PRODID:-//eluceo/ical//2.0/EN
VERSION:2.0
CALSCALE:GREGORIAN
BEGIN:VEVENT
UID:f0da601805e0185f0e6933f82aa3ad27
DTSTAMP:20260420T154220Z
SUMMARY:Mieze Schindler fängt keine Mäuse
DESCRIPTION:Ein Maus hat Mieze Schindler gefressen. Die Netzgemeinde ist in
  Aufruhr. Ist das erst der Anfang? Was müssen wir uns alles gefallen lass
 en\, und wann tut die Regierung endlich etwas dagegen? Schaller & Ulbricht
  nehmen sich der Sache gewohnt satirisch an.
URL:https://www.meinplaner.com
DTSTART;TZID=Europe/Amsterdam:20260423T200000
DTEND;TZID=Europe/Amsterdam:20260423T220000
LOCATION:An der Markthalle 1 -3\, 09111 Chemnitz
BEGIN:VALARM
ACTION:DISPLAY
DESCRIPTION:Erinnerung: Mieze Schindler fängt keine Mäuse beginnt in 1 St
 unde
TRIGGER;RELATED=END:-PT1H
END:VALARM
END:VEVENT
END:VCALENDAR
