BEGIN:VCALENDAR
PRODID:-//eluceo/ical//2.0/EN
VERSION:2.0
CALSCALE:GREGORIAN
BEGIN:VEVENT
UID:2989a6a0a7ce8e2ed2ee4282b2ec36c3
DTSTAMP:20260425T002618Z
SUMMARY:Alexander Stevens & Jacqueline Belle
DESCRIPTION:Das True Crime Duo bringt mit "Tödliche Liebe" nach einer erfo
 lgreichen Tour mit 100 Stationen und 90.000 Zuschauern erneut spannende F
 älle aus der Kanzlei auf die Bühne und begeistert Podcast-Fans im deutsc
 hsprachigen Raum.
URL:https://www.meinplaner.com
DTSTART;TZID=Europe/Amsterdam:20260508T200000
DTEND;TZID=Europe/Amsterdam:20260508T223000
LOCATION:Theaterstr. 3\, 09111 Chemnitz
BEGIN:VALARM
ACTION:DISPLAY
DESCRIPTION:Erinnerung: Alexander Stevens & Jacqueline Belle beginnt in 1 S
 tunde
TRIGGER;RELATED=END:-PT1H
END:VALARM
END:VEVENT
END:VCALENDAR
