BEGIN:VCALENDAR
PRODID:-//eluceo/ical//2.0/EN
VERSION:2.0
CALSCALE:GREGORIAN
BEGIN:VEVENT
UID:4a5d82cfbdfe93c19a29b72e64d11cec
DTSTAMP:20260420T172350Z
SUMMARY:Das unheimliche Spuken
DESCRIPTION:In einer Klasse sorgen unterschiedliche Charaktere immer wieder
  für Streit. Gleichzeitig geschehen seltsame Dinge: Ein Geist verschiebt 
 Gegenstände\, schreibt Botschaften an die Tafel und sorgt für Unruhe. Di
 e Klasse muss gemeinsam das Rätsel lösen.
URL:https://www.meinplaner.com
DTSTART;TZID=Europe/Amsterdam:20260423T160000
DTEND;TZID=Europe/Amsterdam:20260423T180000
LOCATION:Altchemnitzer Str. 27\, 09120 Chemnitz
BEGIN:VALARM
ACTION:DISPLAY
DESCRIPTION:Erinnerung: Das unheimliche Spuken beginnt in 1 Stunde
TRIGGER;RELATED=END:-PT1H
END:VALARM
END:VEVENT
END:VCALENDAR
