BEGIN:VCALENDAR
PRODID:-//eluceo/ical//2.0/EN
VERSION:2.0
CALSCALE:GREGORIAN
BEGIN:VEVENT
UID:c397f3a58989d2758be3a68f97dde035
DTSTAMP:20260422T073029Z
SUMMARY:Das Lehni kocht – gemeinsam!
DESCRIPTION:Gemeinsam rein pflanzlich kochen: bunt\, lecker und saisonal! N
 eue Rezepte ausprobieren\, Tipps austauschen\, zusammen genießen. Alle si
 nd willkommen – ob Kochprofi oder Neuling. Hauptsache\, die Freude am Ko
 chen ist dabei.
URL:https://www.meinplaner.com
DTSTART;TZID=Europe/Amsterdam:20260505T173000
DTEND;TZID=Europe/Amsterdam:20260505T193000
LOCATION:Markt 14\, 09573 Augustusburg
BEGIN:VALARM
ACTION:DISPLAY
DESCRIPTION:Erinnerung: Das Lehni kocht – gemeinsam! beginnt in 1 Stunde
TRIGGER;RELATED=END:-PT1H
END:VALARM
END:VEVENT
END:VCALENDAR
