BEGIN:VCALENDAR
PRODID:-//eluceo/ical//2.0/EN
VERSION:2.0
CALSCALE:GREGORIAN
BEGIN:VEVENT
UID:38e9778db2aab21d3808e4fabd3fd20d
DTSTAMP:20260420T014357Z
SUMMARY:Fit am Tablet – Anfänger-Workshops für Seniorinnen und Senioren
DESCRIPTION:Ein dreiteiliger Workshop vermittelt Grundlagen zur Nutzung von
  Tablets\, Apps & digitalen Angeboten der Stadtbibliothek. Die aufeinander
  aufbauenden Termine richten sich an Einsteiger ohne Vorkenntnisse und bie
 ten einen praxisnahen Einstieg.
URL:https://www.meinplaner.com
DTSTART;TZID=Europe/Amsterdam:20260420T140000
DTEND;TZID=Europe/Amsterdam:20260420T160000
LOCATION:Moritzstr. 20\, 09111 Chemnitz
BEGIN:VALARM
ACTION:DISPLAY
DESCRIPTION:Erinnerung: Fit am Tablet – Anfänger-Workshops für Seniorin
 nen und Senioren beginnt in 1 Stunde
TRIGGER;RELATED=END:-PT1H
END:VALARM
END:VEVENT
END:VCALENDAR
