BEGIN:VCALENDAR
PRODID:-//eluceo/ical//2.0/EN
VERSION:2.0
CALSCALE:GREGORIAN
BEGIN:VEVENT
UID:d60f13c9cceca697344807cb8828f004
DTSTAMP:20260420T011815Z
SUMMARY:Auf Stelzen und baumbewachsen - Bienvenido
DESCRIPTION:Nicht nur die ausgefallene Architektur lädt ein. Mexikanische 
 Genussvielfalt trifft hier auf ebenso perfekt gestaltete Einrichtung. Drei
  100jährige Bäume wachsen durch die Ebenen des Hauses.  Ein tolles Ambie
 nte für Nachos\, Tacos oder Chili con Carne. 
URL:https://www.meinplaner.com
DTSTART;TZID=Europe/Amsterdam:20260420T170000
DTEND;TZID=Europe/Amsterdam:20260420T220000
LOCATION:Leipziger Str. 106\, 09114 Chemnitz
BEGIN:VALARM
ACTION:DISPLAY
DESCRIPTION:Erinnerung: Auf Stelzen und baumbewachsen - Bienvenido beginnt 
 in 1 Stunde
TRIGGER;RELATED=END:-PT1H
END:VALARM
END:VEVENT
END:VCALENDAR
