BEGIN:VCALENDAR
PRODID:-//eluceo/ical//2.0/EN
VERSION:2.0
CALSCALE:GREGORIAN
BEGIN:VEVENT
UID:344c4e71534ecc6826b51a854728fad6
DTSTAMP:20260425T011138Z
SUMMARY:Gaumenfreuden vor oder nach dem Kunstgenuss
DESCRIPTION:Die Villa Esche ist Kulturgut und Genussmanufaktur. Vorn das vo
 m belgischen Architekten und Gestalter Henry van de Velde 1902/03 für den
  Fabrikanten Esche erbaute Gebäude\, heute Museum\, daneben in der Remise
  gibt es kulinarische Köstlichkeiten und gute Weine.
URL:https://www.meinplaner.com
DTSTART;TZID=Europe/Amsterdam:20260425T113000
DTEND;TZID=Europe/Amsterdam:20260425T150000
LOCATION:Parkstr. 58\, 09120 Chemnitz
BEGIN:VALARM
ACTION:DISPLAY
DESCRIPTION:Erinnerung: Gaumenfreuden vor oder nach dem Kunstgenuss beginnt
  in 1 Stunde
TRIGGER;RELATED=END:-PT1H
END:VALARM
END:VEVENT
BEGIN:VEVENT
UID:a3e61ca6ab9cd0911caed00321f848a1
DTSTAMP:20260425T011138Z
SUMMARY:Gaumenfreuden vor oder nach dem Kunstgenuss
DESCRIPTION:Die Villa Esche ist Kulturgut und Genussmanufaktur. Vorn das vo
 m belgischen Architekten und Gestalter Henry van de Velde 1902/03 für den
  Fabrikanten Esche erbaute Gebäude\, heute Museum\, daneben in der Remise
  gibt es kulinarische Köstlichkeiten und gute Weine.
URL:https://www.meinplaner.com
DTSTART;TZID=Europe/Amsterdam:20260425T173000
DTEND;TZID=Europe/Amsterdam:20260425T220000
LOCATION:Parkstr. 58\, 09120 Chemnitz
BEGIN:VALARM
ACTION:DISPLAY
DESCRIPTION:Erinnerung: Gaumenfreuden vor oder nach dem Kunstgenuss beginnt
  in 1 Stunde
TRIGGER;RELATED=END:-PT1H
END:VALARM
END:VEVENT
END:VCALENDAR
